Workbook

Sheet Pop & Exp
A1: Wick, Littlehampton
A3: Table 1a: Population and Expenditure within Study Area
B5: Zone
B6: 1 | C6: 2 | D6: 3 | E6: 4 | F6: 5 | G6: Total
A8: Convenience Goods
A10: Population
A11: 2025 | B11: 19959 | C11: 14570 | D11: 45120 | E11: 16756 | F11: 21611 | G11: =SUM(B11:F11) -> 118016
A12: 2030 | B12: 20826 | C12: 15177 | D12: 46301 | E12: 17239 | F12: 22491 | G12: =SUM(B12:F12) -> 122034
A14: Expenditure per Capita (£)
A15: 2023 | B15: =2799*0.95 -> 2659.05 | C15: =2952*0.95 -> 2804.4 | D15: =3197*0.95 -> 3037.15 | E15: =3204*0.95 -> 3043.8 | F15: =3111*0.95 -> 2955.45 | G15: -
A16: 2025 | B16: =(B15*0.981*0.991) -> 2585.0513 | C16: =(C15*0.981*0.991) -> 2726.3564 | D16: =(D15*0.981*0.991) -> 2952.6292 | E16: =(E15*0.981*0.991) -> 2959.0941 | F16: =(F15*0.981*0.991) -> 2873.2028 | G16: -
A17: 2030 | B17: =(B16*0.993*0.994*0.996*0.996*0.996) -> 2521.0579 | C17: =(C16*0.993*0.994*0.996*0.996*0.996) -> 2658.8649 | D17: =(D16*0.993*0.994*0.996*0.996*0.996) -> 2879.5363 | E17: =(E16*0.993*0.994*0.996*0.996*0.996) -> 2885.8412 | F17: =(F16*0.993*0.994*0.996*0.996*0.996) -> 2802.0761 | G17: -
A19: Expenditure (£m)
A20: 2025 | B20: =B11*B16/10^6 -> 51.595039 | C20: =C11*C16/10^6 -> 39.723012 | D20: =D11*D16/10^6 -> 133.22263 | E20: =E11*E16/10^6 -> 49.582581 | F20: =F11*F16/10^6 -> 62.092785 | G20: =SUM(B20:F20) -> 336.21604
A21: 2030 | B21: =B12*B17/10^6 -> 52.503551 | C21: =C12*C17/10^6 -> 40.353592 | D21: =D12*D17/10^6 -> 133.32541 | E21: =E12*E17/10^6 -> 49.749016 | F21: =F12*F17/10^6 -> 63.021494 | G21: =SUM(B21:F21) -> 338.95306
A23: Comparison Goods
A25: Population
A26: 2025 | B26: =B11 -> 19959 | C26: =C11 -> 14570 | D26: =D11 -> 45120 | E26: =E11 -> 16756 | F26: =F11 -> 21611 | G26: =SUM(B26:F26) -> 118016
A27: 2030 | B27: =B12 -> 20826 | C27: =C12 -> 15177 | D27: =D12 -> 46301 | E27: =E12 -> 17239 | F27: =F12 -> 22491 | G27: =SUM(B27:F27) -> 122034
A29: Expenditure per Capita (£)
A30: 2023 | B30: =3750*0.769 -> 2883.75 | C30: =3883*0.769 -> 2986.027 | D30: =4327*0.769 -> 3327.463 | E30: =4677*0.769 -> 3596.613 | F30: =4403*0.769 -> 3385.907 | G30: -
A31: 2025 | B31: =(B30*0.983*0.996) -> 2823.3873 | C31: =(C30*0.983*0.996) -> 2923.5235 | D31: =(D30*0.983*0.996) -> 3257.8125 | E31: =(E30*0.983*0.996) -> 3521.3287 | F31: =(F30*0.983*0.996) -> 3315.0332 | G31: -
A32: 2030 | B32: =(B31*1.009*1.013*1.02*1.022*1.022) -> 3074.4897 | C32: =(C31*1.009*1.013*1.02*1.022*1.022) -> 3183.5316 | D32: =(D31*1.009*1.013*1.02*1.022*1.022) -> 3547.5512 | E32: =(E31*1.009*1.013*1.02*1.022*1.022) -> 3834.5035 | F32: =(F31*1.009*1.013*1.02*1.022*1.022) -> 3609.8608 | G32: -
A34: Expenditure (£m)
A35: 2025 | B35: =B26*B31/10^6 -> 56.351988 | C35: =C26*C31/10^6 -> 42.595737 | D35: =D26*D31/10^6 -> 146.9925 | E35: =E26*E31/10^6 -> 59.003384 | F35: =F26*F31/10^6 -> 71.641182 | G35: =SUM(B35:F35) -> 376.58479
A36: 2030 | B36: =B27*B32/10^6 -> 64.029322 | C36: =C27*C32/10^6 -> 48.316459 | D36: =D27*D32/10^6 -> 164.25517 | E36: =E27*E32/10^6 -> 66.103006 | F36: =F27*F32/10^6 -> 81.189379 | G36: =SUM(B36:F36) -> 423.89333
A39: Notes:
A40: 1. Population and expenditure data derived from Experian Location Analyst (March 2025) (2023 data)
A41: 2. Expenditure forecasts in in line with the latest figures published by Experian (Retail Planner Briefing Note 22, March 2025) (Figure 7, Appendix 3) ('Adjusted for SFT sales from stores')
A42: 3. Allows for Special Forms of Trading in 2023 in line with the latest estimates published by Experian (Appendix 3) ('Adjusted for SFT sales from stores')
A43: 4. Expenditure = population x expenditure per capita
A44: 5. At 2023 prices
A46: Table 1b: Expenditure split by Category
B48: Zone
B49: 1 | C49: 2 | D49: 3 | E49: 4 | F49: 5
A51: Convenience Goods
A53: Expenditure per Capita (£) (2025 excluding SFT) | B53: =SUM(B56:B61) -> 2585.0513 | C53: =SUM(C56:C61) -> 2726.3564 | D53: =SUM(D56:D61) -> 2952.6292 | E53: =SUM(E56:E61) -> 2959.0941 | F53: =SUM(F56:F61) -> 2873.2028
H54: Principal | I54: 0.8
A55: Main Food Shopping | H55: Other | I55: 0.2
A56: Principal | B56: =(B16*0.774)*I54 -> 1600.6638 | C56: =(C16*0.809)*I54 -> 1764.4978 | D56: =(D16*0.779)*I54 -> 1840.0785 | E56: =(E16*0.836)*I54 -> 1979.0421 | F56: =(F16*0.81)*I54 -> 1861.8354
...

Sheet Survey Results
C1: Total | D1: Zone 1 | E1: Zone 2 | F1: Zone 3 | G1: Zone 4 | H1: Zone 5
A3: Q01 | B3: Where did you last undertake your main food and grocery shopping?
B5: Aldi, Barnfield Drive, Chichester, PO19 7AG | C5: 0.00393 | D5: 0 | E5: 0 | F5: 0 | G5: 0.00553 | H5: 0.01795
B6: Aldi, Carlton Terrace, Portslade, BN41 1XF | C6: 0 | D6: 0 | E6: 0 | F6: 0 | G6: 0 | H6: 0
B7: Aldi, Central Retail Park, Havant, PO9 1HH | C7: 0 | D7: 0 | E7: 0 | F7: 0 | G7: 0 | H7: 0
B8: Aldi, London Road, Brighton, BN1 4JA | C8: 0.02394 | D8: 0 | E8: 0 | F8: 0.06191 | G8: 0 | H8: 0
B9: Aldi, Manor Retail Park, Rustington, BN16 3FH | C9: 0.0395 | D9: 0.08057 | E9: 0.02105 | F9: 0.0512 | G9: 0.01107 | H9: 0.01027
B10: Aldi, Pavilion Retail Park, Lewes Road, Brighton, BN2 3QA | C10: 0.0123 | D10: 0 | E10: 0 | F10: 0.0318 | G10: 0 | H10: 0
B11: Aldi, Saltbox Road, Bognor Regis, PO22 9FP | C11: 0.01031 | D11: 0.00475 | E11: 0 | F11: 0 | G11: 0.01933 | H11: 0.03848
B12: Asda Express (Petrol Station), A27, Arundel Road, Chichester, PO18 0DU | C12: 0.02062 | D12: 0 | E12: 0 | F12: 0.0318 | G12: 0 | H12: 0.04761
B13: Asda Express (Petrol Station), Chichester Road, Bognor Regis, PO21 5DS | C13: 0 | D13: 0 | E13: 0 | F13: 0 | G13: 0 | H13: 0
B14: Asda Supermarket, South Street, Lancing, Brighton, BN15 8AG | C14: 0 | D14: 0 | E14: 0 | F14: 0 | G14: 0 | H14: 0
B15: Asda Superstore, Littlehampton Road, Ferring, BN12 6PN | C15: 0.04534 | D15: 0.02611 | E15: 0.05669 | F15: 0.07617 | G15: 0.03039 | H15: 0
B16: Co-op, Chichester Road, Bognor Regis, PO21 2XH | C16: 0.0161 | D16: 0 | E16: 0.03563 | F16: 0.03011 | G16: 0 | H16: 0
... B150: Worthing Market, Montague Street, Worthing, BN11 3BW | C150: 0 | D150: 0 | E150: 0 | F150: 0 | G150: 0 | H150: 0
B151: Total | C151: =SUM(C5:C150) -> 0.81622 | D151: =SUM(D5:D150) -> 0.83823 | E151: =SUM(E5:E150) -> 0.78001 | F151: =SUM(F5:F150) -> 0.80699 | G151: =SUM(G5:G150) -> 0.88672 | H151: =SUM(H5:H150) -> 0.78338
A153: Q10 | B153: Where did you undertake your main food shopping the time before last?
B155: Aldi, Barnfield Drive, Chichester, PO19 7AG | C155: 0.00314 | D155: 0 | E155: 0 | F155: 0 | G155: 0 | H155: 0.01795
B156: Aldi, Carlton Terrace, Portslade, BN41 1XF | C156: 0 | D156: 0 | E156: 0 | F156: 0 | G156: 0 | H156: 0
B157: Aldi, Central Retail Park, Havant, PO9 1HH | C157: 0 | D157: 0 | E157: 0 | F157: 0 | G157: 0 | H157: 0
B158: Aldi, London Road, Brighton, BN1 4JA | C158: 0.0123 | D158: 0 | E158: 0 | F158: 0.0318 | G158: 0 | H158: 0
B159: Aldi, Manor Retail Park, Rustington, BN16 3FH | C159: 0.04152 | D159: 0.08916 | E159: 0.0986 | F159: 0.02759 | G159: 0.01107 | H159: 0.01027
B160: Aldi, Pavilion Retail Park, Lewes Road, Brighton, BN2 3QA | C160: 0 | D160: 0 | E160: 0 | F160: 0 | G160: 0 | H160: 0
B161: Aldi, Saltbox Road, Bognor Regis, PO22 9FP | C161: 0.01047 | D161: 0.00475 | E161: 0.00842 | F161: 0 | G161: 0.01933 | H161: 0.03335
B162: Asda Express (Petrol Station), A27, Arundel Road, Chichester, PO18 0DU | C162: 0.00832 | D162: 0 | E162: 0 | F162: 0 | G162: 0 | H162: 0.04761
B163: Asda Express (Petrol Station), Chichester Road, Bognor Regis, PO21 5DS | C163: 0.01164 | D163: 0 | E163: 0 | F163: 0.03011 | G163: 0 | H163: 0
B164: Asda Supermarket, South Street, Lancing, Brighton, BN15 8AG | C164: 0 | D164: 0 | E164: 0 | F164: 0 | G164: 0 | H164: 0
B165: Asda Superstore, Littlehampton Road, Ferring, BN12 6PN | C165: 0.0348 | D165: 0.00951 | E165: 0.01263 | F165: 0.06579 | G165: 0.03039 | H165: 0.01027
B166: Co-op, Chichester Road, Bognor Regis, PO21 2XH | C166: 0.00445 | D166: 0 | E166: 0.03563 | F166: 0 | G166: 0 | H166: 0
... B300: Worthing Market, Montague Street, Worthing, BN11 3BW | C300: 0 | D300: 0 | E300: 0 | F300: 0 | G300: 0 | H300: 0
B301: Total | C301: =SUM(C155:C300) -> 0.83272 | D301: =SUM(D155:D300) -> 0.9027 | E301: =SUM(E155:E300) -> 0.7716 | F301: =SUM(F155:F300) -> 0.81453 | G301: =SUM(G155:G300) -> 0.81884 | H301: =SUM(H155:H300) -> 0.86003
A303: Q12 | B303: Where did you last undertake your household's small scale 'top-up' food shopping?
B305: Aldi, Barnfield Drive, Chichester, PO19 7AG | C305: 0 | D305: 0 | E305: 0 | F305: 0 | G305: 0 | H305: 0
B306: Aldi, Carlton Terrace, Portslade, BN41 1XF | C306: 0.01164 | D306: 0 | E306: 0 | F306: 0.03011 | G306: 0 | H306: 0
B307: Aldi, Central Retail Park, Havant, PO9 1HH | C307: 0 | D307: 0 | E307: 0 | F307: 0 | G307: 0 | H307: 0
B308: Aldi, London Road, Brighton, BN1 4JA | C308: 0 | D308: 0 | E308: 0 | F308: 0 | G308: 0 | H308: 0
B309: Aldi, Manor Retail Park, Rustington, BN16 3FH | C309: 0.01812 | D309: 0 | E309: 0.03983 | F309: 0.03398 | G309: 0 | H309: 0
B310: Aldi, Pavilion Retail Park, Lewes Road, Brighton, BN2 3QA | C310: 0.0123 | D310: 0 | E310: 0 | F310: 0.0318 | G310: 0 | H310: 0
B311: Aldi, Saltbox Road, Bognor Regis, PO22 9FP | C311: 0 | D311: 0 | E311: 0 | F311: 0 | G311: 0 | H311: 0
B312: Asda Express (Petrol Station), A27, Arundel Road, Chichester, PO18 0DU | C312: 0 | D312: 0 | E312: 0 | F312: 0 | G312: 0 | H312: 0
...

Sheet Non-food Shopping
C1: Zone 1 | E1: Zone 2 | G1: Zone 3 | I1: Zone 4 | K1: Zone 5 | M1: Total
A4: Q16 | B4: Where did you last undertake shopping for clothes, footwear and other fashion goods? | D4: ='Pop & Exp'!B120 -> 16.115895 | F4: ='Pop & Exp'!C120 -> 11.87659 | H4: ='Pop & Exp'!D120 -> 37.785338 | J4: ='Pop & Exp'!E120 -> 15.501093 | L4: ='Pop & Exp'!F120 -> 18.596503 | N4: =L4+J4+H4+F4+D4 -> 99.875418
B6: Asda Supermarket, South Street, Lancing, Brighton, BN15 8AG | C6: ='Survey Results'!D606/'Survey Results'!D$785 -> 0 | D6: =C6*$D$4 -> 0 | E6: ='Survey Results'!E606/'Survey Results'!E$785 -> 0 | F6: =E6*$F$4 -> 0 | G6: ='Survey Results'!F606/'Survey Results'!F$785 -> 0.12560243 | H6: =G6*$H$4 -> 4.7459304 | I6: ='Survey Results'!G606/'Survey Results'!G$785 -> 0 | J6: =I6*$J$4 -> 0 | K6: ='Survey Results'!H606/'Survey Results'!H$785 -> 0 | L6: =K6*$L$4 -> 0 | M6: =N6/$N$4 -> 0.047518503 | N6: =D6+F6+H6+J6+L6 -> 4.7459304
B7: Asda Superstore, Littlehampton Road, Ferring, BN12 6PN | C7: ='Survey Results'!D607/'Survey Results'!D$785 -> 0 | D7: =C7*$D$4 -> 0 | E7: ='Survey Results'!E607/'Survey Results'!E$785 -> 0.016751552 | F7: =E7*$F$4 -> 0.19895131 | G7: ='Survey Results'!F607/'Survey Results'!F$785 -> 0 | H7: =G7*$H$4 -> 0 | I7: ='Survey Results'!G607/'Survey Results'!G$785 -> 0.057407862 | J7: =I7*$J$4 -> 0.8898846 | K7: ='Survey Results'!H607/'Survey Results'!H$785 -> 0.04494382 | L7: =K7*$L$4 -> 0.8357979 | M7: =N7/$N$4 -> 0.019270345 | N7: =D7+F7+H7+J7+L7 -> 1.9246338
B8: Marks and Spencer (M&S), East Street, Chichester, PO19 1HS | C8: ='Survey Results'!D608/'Survey Results'!D$785 -> 0 | D8: =C8*$D$4 -> 0 | E8: ='Survey Results'!E608/'Survey Results'!E$785 -> 0 | F8: =E8*$F$4 -> 0 | G8: ='Survey Results'!F608/'Survey Results'!F$785 -> 0 | H8: =G8*$H$4 -> 0 | I8: ='Survey Results'!G608/'Survey Results'!G$785 -> 0.01044638 | J8: =I8*$J$4 -> 0.1619303 | K8: ='Survey Results'!H608/'Survey Results'!H$785 -> 0.010009152 | L8: =K8*$L$4 -> 0.18613523 | M8: =N8/$N$4 -> 0.003484997 | N8: =D8+F8+H8+J8+L8 -> 0.34806554
B9: Marks and Spencer (M&S), Montague Street, Worthing, BN11 3BW | C9: ='Survey Results'!D609/'Survey Results'!D$785 -> 0 | D9: =C9*$D$4 -> 0 | E9: ='Survey Results'!E609/'Survey Results'!E$785 -> 0.04187888 | F9: =E9*$F$4 -> 0.49737827 | G9: ='Survey Results'!F609/'Survey Results'!F$785 -> 0.060895157 | H9: =G9*$H$4 -> 2.3009441 | I9: ='Survey Results'!G609/'Survey Results'!G$785 -> 0.041785519 | J9: =I9*$J$4 -> 0.64772121 | K9: ='Survey Results'!H609/'Survey Results'!H$785 -> 0 | L9: =K9*$L$4 -> 0 | M9: =N9/$N$4 -> 0.03450342 | N9: =D9+F9+H9+J9+L9 -> 3.4460436
B10: Marks and Spencer (M&S), North Street, Chichester, PO19 1LB | C10: ='Survey Results'!D610/'Survey Results'!D$785 -> 0.032020987 | D10: =C10*$D$4 -> 0.51604685 | E10: ='Survey Results'!E610/'Survey Results'!E$785 -> 0 | F10: =E10*$F$4 -> 0 | G10: ='Survey Results'!F610/'Survey Results'!F$785 -> 0 | H10: =G10*$H$4 -> 0 | I10: ='Survey Results'!G610/'Survey Results'!G$785 -> 0 | J10: =I10*$J$4 -> 0 | K10: ='Survey Results'!H610/'Survey Results'!H$785 -> 0.034954141 | L10: =K10*$L$4 -> 0.65002479 | M10: =N10/$N$4 -> 0.011675262 | N10: =D10+F10+H10+J10+L10 -> 1.1660716
B11: Morrisons Superstore, Bedford Street, Bognor Regis, PO21 1QP | C11: ='Survey Results'!D611/'Survey Results'!D$785 -> 0 | D11: =C11*$D$4 -> 0 | E11: ='Survey Results'!E611/'Survey Results'!E$785 -> 0 | F11: =E11*$F$4 -> 0 | G11: ='Survey Results'!F611/'Survey Results'!F$785 -> 0 | H11: =G11*$H$4 -> 0 | I11: ='Survey Results'!G611/'Survey Results'!G$785 -> 0 | J11: =I11*$J$4 -> 0 | K11: ='Survey Results'!H611/'Survey Results'!H$785 -> 0 | L11: =K11*$L$4 -> 0 | M11: =N11/$N$4 -> 0 | N11: =D11+F11+H11+J11+L11 -> 0
B12: Morrisons Superstore, Hawthorn Road, Wick, Littlehampton, BN17 7LA | C12: ='Survey Results'!D612/'Survey Results'!D$785 -> 0.07756409 | D12: =C12*$D$4 -> 1.2500147 | E12: ='Survey Results'!E612/'Survey Results'!E$785 -> 0.0083956709 | F12: =E12*$F$4 -> 0.099711939 | G12: ='Survey Results'!F612/'Survey Results'!F$785 -> 0 | H12: =G12*$H$4 -> 0 | I12: ='Survey Results'!G612/'Survey Results'!G$785 -> 0 | J12: =I12*$J$4 -> 0 | K12: ='Survey Results'!H612/'Survey Results'!H$785 -> 0 | L12: =K12*$L$4 -> 0 | M12: =N12/$N$4 -> 0.013514102 | N12: =D12+F12+H12+J12+L12 -> 1.3497266
B13: Morrisons Superstore, Newland Street, Worthing, BN11 1JU | C13: ='Survey Results'!D613/'Survey Results'!D$785 -> 0 | D13: =C13*$D$4 -> 0 | E13: ='Survey Results'!E613/'Survey Results'!E$785 -> 0 | F13: =E13*$F$4 -> 0 | G13: ='Survey Results'!F613/'Survey Results'!F$785 -> 0 | H13: =G13*$H$4 -> 0 | I13: ='Survey Results'!G613/'Survey Results'!G$785 -> 0 | J13: =I13*$J$4 -> 0 | K13: ='Survey Results'!H613/'Survey Results'!H$785 -> 0 | L13: =K13*$L$4 -> 0 | M13: =N13/$N$4 -> 0 | N13: =D13+F13+H13+J13+L13 -> 0
B14: Morrisons Superstore, St James's Street, Kemptown, Brighton, BN2 1RE | C14: ='Survey Results'!D614/'Survey Results'!D$785 -> 0 | D14: =C14*$D$4 -> 0 | E14: ='Survey Results'!E614/'Survey Results'!E$785 -> 0 | F14: =E14*$F$4 -> 0 | G14: ='Survey Results'!F614/'Survey Results'!F$785 -> 0 | H14: =G14*$H$4 -> 0 | I14: ='Survey Results'!G614/'Survey Results'!G$785 -> 0 | J14: =I14*$J$4 -> 0 | K14: ='Survey Results'!H614/'Survey Results'!H$785 -> 0 | L14: =K14*$L$4 -> 0 | M14: =N14/$N$4 -> 0 | N14: =D14+F14+H14+J14+L14 -> 0
B15: Sainsbury's Superstore, Downland Business Park, Lyons Farm, Worthing, BN14 9LA | C15: ='Survey Results'!D615/'Survey Results'!D$785 -> 0 | D15: =C15*$D$4 -> 0 | E15: ='Survey Results'!E615/'Survey Results'!E$785 -> 0 | F15: =E15*$F$4 -> 0 | G15: ='Survey Results'!F615/'Survey Results'!F$785 -> 0.059473019 | H15: =G15*$H$4 -> 2.2472081 | I15: ='Survey Results'!G615/'Survey Results'!G$785 -> 0 | J15: =I15*$J$4 -> 0 | K15: ='Survey Results'!H615/'Survey Results'!H$785 -> 0 | L15: =K15*$L$4 -> 0 | M15: =N15/$N$4 -> 0.022500112 | N15: =D15+F15+H15+J15+L15 -> 2.2472081
B16: Sainsbury's Superstore, High Street, Littlehampton, BN17 5EG | C16: ='Survey Results'!D616/'Survey Results'!D$785 -> 0 | D16: =C16*$D$4 -> 0 | E16: ='Survey Results'!E616/'Survey Results'!E$785 -> 0 | F16: =E16*$F$4 -> 0 | G16: ='Survey Results'!F616/'Survey Results'!F$785 -> 0 | H16: =G16*$H$4 -> 0 | I16: ='Survey Results'!G616/'Survey Results'!G$785 -> 0 | J16: =I16*$J$4 -> 0 | K16: ='Survey Results'!H616/'Survey Results'!H$785 -> 0 | L16: =K16*$L$4 -> 0 | M16: =N16/$N$4 -> 0 | N16: =D16+F16+H16+J16+L16 -> 0
B17: Sainsbury's Superstore, Rustington Retail Park, New Road, Littlehampton, BN16 3RT | C17: ='Survey Results'!D617/'Survey Results'!D$785 -> 0.082367238 | D17: =C17*$D$4 -> 1.3274217 | E17: ='Survey Results'!E617/'Survey Results'!E$785 -> 0.062768582 | F17: =E17*$F$4 -> 0.7454767 | G17: ='Survey Results'!F617/'Survey Results'!F$785 -> 0.048076163 | H17: =G17*$H$4 -> 1.8165741 | I17: ='Survey Results'!G617/'Survey Results'!G$785 -> 0.11275667 | J17: =I17*$J$4 -> 1.7478517 | K17: ='Survey Results'!H617/'Survey Results'!H$785 -> 0.019998832 | L17: =K17*$L$4 -> 0.37190834 | M17: =N17/$N$4 -> 0.060167282 | N17: =D17+F17+H17+J17+L17 -> 6.0092325
... B184: Yapton Village Centre | C184: ='Survey Results'!D784/'Survey Results'!D$785 -> 0 | D184: =C184*$D$4 -> 0 | E184: ='Survey Results'!E784/'Survey Results'!E$785 -> 0 | F184: =E184*$F$4 -> 0 | G184: ='Survey Results'!F784/'Survey Results'!F$785 -> 0 | H184: =G184*$H$4 -> 0 | I184: ='Survey Results'!G784/'Survey Results'!G$785 -> 0 | J184: =I184*$J$4 -> 0 | K184: ='Survey Results'!H784/'Survey Results'!H$785 -> 0 | L184: =K184*$L$4 -> 0 | M184: =N184/$N$4 -> 0 | N184: =D184+F184+H184+J184+L184 -> 0
B185: Total | C185: =SUM(C6:C184) -> 1 | D185: =SUM(D6:D184) -> 16.115895 | E185: =SUM(E6:E184) -> 1 | F185: =SUM(F6:F184) -> 11.87659 | G185: =SUM(G6:G184) -> 1 | H185: =SUM(H6:H184) -> 37.785338 | I185: =SUM(I6:I184) -> 1 | J185: =SUM(J6:J184) -> 15.501093 | ... N185: =SUM(N6:N184) -> 99.875418
A187: Q17 | B187: Where did you last undertake your household's shopping for furniture, floor coverings and household textiles? | D187: ='Pop & Exp'!B121 -> 5.6942827 | F187: ='Pop & Exp'!C121 -> 4.1231934 | H187: ='Pop & Exp'!D121 -> 16.96697 | J187: ='Pop & Exp'!E121 -> 6.6230771 | L187: ='Pop & Exp'!F121 -> 7.777626 | N187: =D187+F187+H187+J187+L187 -> 41.185149
B189: Asda Supermarket, South Street, Lancing, Brighton, BN15 8AG | C189: ='Survey Results'!D789/'Survey Results'!D$968 -> 0 | D189: =C189*$D$187 -> 0 | E189: ='Survey Results'!E789/'Survey Results'!E$968 -> 0 | F189: =E189*$F$187 -> 0 | G189: ='Survey Results'!F789/'Survey Results'!F$968 -> 0 | H189: =G189*$H$187 -> 0 | I189: ='Survey Results'!G789/'Survey Results'!G$968 -> 0 | J189: =I189*$J$187 -> 0 | K189: ='Survey Results'!H789/'Survey Results'!H$968 -> 0 | L189: =K189*$L$187 -> 0 | M189: =N189/$N$187 -> 0 | N189: =D189+F189+H189+J189+L189 -> 0
B190: Asda Superstore, Littlehampton Road, Ferring, BN12 6PN | C190: ='Survey Results'!D790/'Survey Results'!D$968 -> 0 | D190: =C190*$D$187 -> 0 | E190: ='Survey Results'!E790/'Survey Results'!E$968 -> 0 | F190: =E190*$F$187 -> 0 | G190: ='Survey Results'!F790/'Survey Results'!F$968 -> 0 | H190: =G190*$H$187 -> 0 | I190: ='Survey Results'!G790/'Survey Results'!G$968 -> 0 | J190: =I190*$J$187 -> 0 | K190: ='Survey Results'!H790/'Survey Results'!H$968 -> 0 | L190: =K190*$L$187 -> 0 | M190: =N190/$N$187 -> 0 | N190: =D190+F190+H190+J190+L190 -> 0
B191: Marks and Spencer (M&S), East Street, Chichester, PO19 1HS | C191: ='Survey Results'!D791/'Survey Results'!D$968 -> 0 | D191: =C191*$D$187 -> 0 | E191: ='Survey Results'!E791/'Survey Results'!E$968 -> 0 | F191: =E191*$F$187 -> 0 | G191: ='Survey Results'!F791/'Survey Results'!F$968 -> 0 | H191: =G191*$H$187 -> 0 | I191: ='Survey Results'!G791/'Survey Results'!G$968 -> 0 | J191: =I191*$J$187 -> 0 | K191: ='Survey Results'!H791/'Survey Results'!H$968 -> 0 | L191: =K191*$L$187 -> 0 | M191: =N191/$N$187 -> 0 | N191: =D191+F191+H191+J191+L191 -> 0
B192: Marks and Spencer (M&S), Montague Street, Worthing, BN11 3BW | C192: ='Survey Results'!D792/'Survey Results'!D$968 -> 0 | D192: =C192*$D$187 -> 0 | E192: ='Survey Results'!E792/'Survey Results'!E$968 -> 0 | F192: =E192*$F$187 -> 0 | G192: ='Survey Results'!F792/'Survey Results'!F$968 -> 0 | H192: =G192*$H$187 -> 0 | I192: ='Survey Results'!G792/'Survey Results'!G$968 -> 0 | J192: =I192*$J$187 -> 0 | K192: ='Survey Results'!H792/'Survey Results'!H$968 -> 0 | L192: =K192*$L$187 -> 0 | M192: =N192/$N$187 -> 0 | N192: =D192+F192+H192+J192+L192 -> 0
B193: Marks and Spencer (M&S), North Street, Chichester, PO19 1LB | C193: ='Survey Results'!D793/'Survey Results'!D$968 -> 0 | D193: =C193*$D$187 -> 0 | E193: ='Survey Results'!E793/'Survey Results'!E$968 -> 0 | F193: =E193*$F$187 -> 0 | G193: ='Survey Results'!F793/'Survey Results'!F$968 -> 0 | H193: =G193*$H$187 -> 0 | I193: ='Survey Results'!G793/'Survey Results'!G$968 -> 0 | J193: =I193*$J$187 -> 0 | K193: ='Survey Results'!H793/'Survey Results'!H$968 -> 0 | L193: =K193*$L$187 -> 0 | M193: =N193/$N$187 -> 0 | N193: =D193+F193+H193+J193+L193 -> 0
B194: Morrisons Superstore, Bedford Street, Bognor Regis, PO21 1QP | C194: ='Survey Results'!D794/'Survey Results'!D$968 -> 0 | D194: =C194*$D$187 -> 0 | E194: ='Survey Results'!E794/'Survey Results'!E$968 -> 0 | F194: =E194*$F$187 -> 0 | G194: ='Survey Results'!F794/'Survey Results'!F$968 -> 0 | H194: =G194*$H$187 -> 0 | I194: ='Survey Results'!G794/'Survey Results'!G$968 -> 0 | J194: =I194*$J$187 -> 0 | K194: ='Survey Results'!H794/'Survey Results'!H$968 -> 0 | L194: =K194*$L$187 -> 0 | M194: =N194/$N$187 -> 0 | N194: =D194+F194+H194+J194+L194 -> 0
B195: Morrisons Superstore, Hawthorn Road, Wick, Littlehampton, BN17 7LA | C195: ='Survey Results'!D795/'Survey Results'!D$968 -> 0 | D195: =C195*$D$187 -> 0 | E195: ='Survey Results'!E795/'Survey Results'!E$968 -> 0 | F195: =E195*$F$187 -> 0 | G195: ='Survey Results'!F795/'Survey Results'!F$968 -> 0 | H195: =G195*$H$187 -> 0 | I195: ='Survey Results'!G795/'Survey Results'!G$968 -> 0 | J195: =I195*$J$187 -> 0 | K195: ='Survey Results'!H795/'Survey Results'!H$968 -> 0 | L195: =K195*$L$187 -> 0 | M195: =N195/$N$187 -> 0 | N195: =D195+F195+H195+J195+L195 -> 0
B196: Morrisons Superstore, Newland Street, Worthing, BN11 1JU | C196: ='Survey Results'!D796/'Survey Results'!D$968 -> 0 | D196: =C196*$D$187 -> 0 | E196: ='Survey Results'!E796/'Survey Results'!E$968 -> 0 | F196: =E196*$F$187 -> 0 | G196: ='Survey Results'!F796/'Survey Results'!F$968 -> 0 | H196: =G196*$H$187 -> 0 | I196: ='Survey Results'!G796/'Survey Results'!G$968 -> 0 | J196: =I196*$J$187 -> 0 | K196: ='Survey Results'!H796/'Survey Results'!H$968 -> 0 | L196: =K196*$L$187 -> 0 | M196: =N196/$N$187 -> 0 | N196: =D196+F196+H196+J196+L196 -> 0
B197: Morrisons Superstore, St James's Street, Kemptown, Brighton, BN2 1RE | C197: ='Survey Results'!D797/'Survey Results'!D$968 -> 0 | D197: =C197*$D$187 -> 0 | E197: ='Survey Results'!E797/'Survey Results'!E$968 -> 0 | F197: =E197*$F$187 -> 0 | G197: ='Survey Results'!F797/'Survey Results'!F$968 -> 0 | H197: =G197*$H$187 -> 0 | I197: ='Survey Results'!G797/'Survey Results'!G$968 -> 0 | J197: =I197*$J$187 -> 0 | K197: ='Survey Results'!H797/'Survey Results'!H$968 -> 0 | L197: =K197*$L$187 -> 0 | M197: =N197/$N$187 -> 0 | N197: =D197+F197+H197+J197+L197 -> 0
B198: Sainsbury's Superstore, Downland Business Park, Lyons Farm, Worthing, BN14 9LA | C198: ='Survey Results'!D798/'Survey Results'!D$968 -> 0 | D198: =C198*$D$187 -> 0 | E198: ='Survey Results'!E798/'Survey Results'!E$968 -> 0 | F198: =E198*$F$187 -> 0 | G198: ='Survey Results'!F798/'Survey Results'!F$968 -> 0 | H198: =G198*$H$187 -> 0 | I198: ='Survey Results'!G798/'Survey Results'!G$968 -> 0 | J198: =I198*$J$187 -> 0 | K198: ='Survey Results'!H798/'Survey Results'!H$968 -> 0 | L198: =K198*$L$187 -> 0 | M198: =N198/$N$187 -> 0 | N198: =D198+F198+H198+J198+L198 -> 0
B199: Sainsbury's Superstore, High Street, Littlehampton, BN17 5EG | C199: ='Survey Results'!D799/'Survey Results'!D$968 -> 0 | D199: =C199*$D$187 -> 0 | E199: ='Survey Results'!E799/'Survey Results'!E$968 -> 0 | F199: =E199*$F$187 -> 0 | G199: ='Survey Results'!F799/'Survey Results'!F$968 -> 0 | H199: =G199*$H$187 -> 0 | I199: ='Survey Results'!G799/'Survey Results'!G$968 -> 0 | J199: =I199*$J$187 -> 0 | K199: ='Survey Results'!H799/'Survey Results'!H$968 -> 0 | L199: =K199*$L$187 -> 0 | M199: =N199/$N$187 -> 0 | N199: =D199+F199+H199+J199+L199 -> 0
B200: Sainsbury's Superstore, Rustington Retail Park, New Road, Littlehampton, BN16 3RT | C200: ='Survey Results'!D800/'Survey Results'!D$968 -> 0.0088150691 | D200: =C200*$D$187 -> 0.050195496 | E200: ='Survey Results'!E800/'Survey Results'!E$968 -> 0.11540052 | F200: =E200*$F$187 -> 0.47581867 | G200: ='Survey Results'!F800/'Survey Results'!F$968 -> 0 | H200: =G200*$H$187 -> 0 | I200: ='Survey Results'!G800/'Survey Results'!G$968 -> 0 | J200: =I200*$J$187 -> 0 | K200: ='Survey Results'!H800/'Survey Results'!H$968 -> 0 | L200: =K200*$L$187 -> 0 | M200: =N200/$N$187 -> 0.012771938 | N200: =D200+F200+H200+J200+L200 -> 0.52601417
... B367: Yapton Village Centre | C367: ='Survey Results'!D967/'Survey Results'!D$968 -> 0 | D367: =C367*$D$187 -> 0 | E367: ='Survey Results'!E967/'Survey Results'!E$968 -> 0 | F367: =E367*$F$187 -> 0 | G367: ='Survey Results'!F967/'Survey Results'!F$968 -> 0 | H367: =G367*$H$187 -> 0 | I367: ='Survey Results'!G967/'Survey Results'!G$968 -> 0 | J367: =I367*$J$187 -> 0 | K367: ='Survey Results'!H967/'Survey Results'!H$968 -> 0 | L367: =K367*$L$187 -> 0 | M367: =N367/$N$187 -> 0 | N367: =D367+F367+H367+J367+L367 -> 0
B368: Total | C368: =SUM(C189:C367) -> 1 | D368: =SUM(D189:D367) -> 5.6942827 | E368: =SUM(E189:E367) -> 1 | F368: =SUM(F189:F367) -> 4.1231934 | G368: =SUM(G189:G367) -> 1 | H368: =SUM(H189:H367) -> 16.96697 | I368: =SUM(I189:I367) -> 1 | J368: =SUM(J189:J367) -> 6.6230771 | ... N368: =SUM(N189:N367) -> 41.185149
A370: Q18 | B370: Where did you last undertake your household's shopping for DIY and decorating goods? | D370: ='Pop & Exp'!B122 -> 3.6989815 | F370: ='Pop & Exp'!C122 -> 3.1596211 | H370: ='Pop & Exp'!D122 -> 11.970562 | J370: ='Pop & Exp'!E122 -> 4.6129603 | L370: ='Pop & Exp'!F122 -> 5.8830761 | N370: =D370+F370+H370+J370+L370 -> 29.325201
B372: Asda Supermarket, South Street, Lancing, Brighton, BN15 8AG | C372: ='Survey Results'!D972/'Survey Results'!D$1151 -> 0 | D372: =C372*$D$370 -> 0 | E372: ='Survey Results'!E972/'Survey Results'!E$1151 -> 0 | F372: =E372*$F$370 -> 0 | G372: ='Survey Results'!F972/'Survey Results'!F$1151 -> 0 | H372: =G372*$H$370 -> 0 | I372: ='Survey Results'!G972/'Survey Results'!G$1151 -> 0 | J372: =I372*$J$370 -> 0 | K372: ='Survey Results'!H972/'Survey Results'!H$1151 -> 0 | L372: =K372*$L$370 -> 0 | M372: =N372/$N$370 -> 0 | N372: =D372+F372+H372+J372+L372 -> 0
B373: Asda Superstore, Littlehampton Road, Ferring, BN12 6PN | C373: ='Survey Results'!D973/'Survey Results'!D$1151 -> 0 | D373: =C373*$D$370 -> 0 | E373: ='Survey Results'!E973/'Survey Results'!E$1151 -> 0 | F373: =E373*$F$370 -> 0 | G373: ='Survey Results'!F973/'Survey Results'!F$1151 -> 0 | H373: =G373*$H$370 -> 0 | I373: ='Survey Results'!G973/'Survey Results'!G$1151 -> 0 | J373: =I373*$J$370 -> 0 | K373: ='Survey Results'!H973/'Survey Results'!H$1151 -> 0 | L373: =K373*$L$370 -> 0 | M373: =N373/$N$370 -> 0 | N373: =D373+F373+H373+J373+L373 -> 0
B374: Marks and Spencer (M&S), East Street, Chichester, PO19 1HS | C374: ='Survey Results'!D974/'Survey Results'!D$1151 -> 0 | D374: =C374*$D$370 -> 0 | E374: ='Survey Results'!E974/'Survey Results'!E$1151 -> 0 | F374: =E374*$F$370 -> 0 | G374: ='Survey Results'!F974/'Survey Results'!F$1151 -> 0 | H374: =G374*$H$370 -> 0 | I374: ='Survey Results'!G974/'Survey Results'!G$1151 -> 0 | J374: =I374*$J$370 -> 0 | K374: ='Survey Results'!H974/'Survey Results'!H$1151 -> 0 | L374: =K374*$L$370 -> 0 | M374: =N374/$N$370 -> 0 | N374: =D374+F374+H374+J374+L374 -> 0
B375: Marks and Spencer (M&S), Montague Street, Worthing, BN11 3BW | C375: ='Survey Results'!D975/'Survey Results'!D$1151 -> 0 | D375: =C375*$D$370 -> 0 | E375: ='Survey Results'!E975/'Survey Results'!E$1151 -> 0 | F375: =E375*$F$370 -> 0 | G375: ='Survey Results'!F975/'Survey Results'!F$1151 -> 0 | H375: =G375*$H$370 -> 0 | I375: ='Survey Results'!G975/'Survey Results'!G$1151 -> 0 | J375: =I375*$J$370 -> 0 | K375: ='Survey Results'!H975/'Survey Results'!H$1151 -> 0 | L375: =K375*$L$370 -> 0 | M375: =N375/$N$370 -> 0 | N375: =D375+F375+H375+J375+L375 -> 0
B376: Marks and Spencer (M&S), North Street, Chichester, PO19 1LB | C376: ='Survey Results'!D976/'Survey Results'!D$1151 -> 0 | D376: =C376*$D$370 -> 0 | E376: ='Survey Results'!E976/'Survey Results'!E$1151 -> 0 | F376: =E376*$F$370 -> 0 | G376: ='Survey Results'!F976/'Survey Results'!F$1151 -> 0 | H376: =G376*$H$370 -> 0 | I376: ='Survey Results'!G976/'Survey Results'!G$1151 -> 0 | J376: =I376*$J$370 -> 0 | K376: ='Survey Results'!H976/'Survey Results'!H$1151 -> 0 | L376: =K376*$L$370 -> 0 | M376: =N376/$N$370 -> 0 | N376: =D376+F376+H376+J376+L376 -> 0
B377: Morrisons Superstore, Bedford Street, Bognor Regis, PO21 1QP | C377: ='Survey Results'!D977/'Survey Results'!D$1151 -> 0 | D377: =C377*$D$370 -> 0 | E377: ='Survey Results'!E977/'Survey Results'!E$1151 -> 0 | F377: =E377*$F$370 -> 0 | G377: ='Survey Results'!F977/'Survey Results'!F$1151 -> 0 | H377: =G377*$H$370 -> 0 | I377: ='Survey Results'!G977/'Survey Results'!G$1151 -> 0 | J377: =I377*$J$370 -> 0 | K377: ='Survey Results'!H977/'Survey Results'!H$1151 -> 0 | L377: =K377*$L$370 -> 0 | M377: =N377/$N$370 -> 0 | N377: =D377+F377+H377+J377+L377 -> 0
B378: Morrisons Superstore, Hawthorn Road, Wick, Littlehampton, BN17 7LA | C378: ='Survey Results'!D978/'Survey Results'!D$1151 -> 0 | D378: =C378*$D$370 -> 0 | E378: ='Survey Results'!E978/'Survey Results'!E$1151 -> 0 | F378: =E378*$F$370 -> 0 | G378: ='Survey Results'!F978/'Survey Results'!F$1151 -> 0 | H378: =G378*$H$370 -> 0 | I378: ='Survey Results'!G978/'Survey Results'!G$1151 -> 0 | J378: =I378*$J$370 -> 0 | K378: ='Survey Results'!H978/'Survey Results'!H$1151 -> 0 | L378: =K378*$L$370 -> 0 | M378: =N378/$N$370 -> 0 | N378: =D378+F378+H378+J378+L378 -> 0
B379: Morrisons Superstore, Newland Street, Worthing, BN11 1JU | C379: ='Survey Results'!D979/'Survey Results'!D$1151 -> 0 | D379: =C379*$D$370 -> 0 | E379: ='Survey Results'!E979/'Survey Results'!E$1151 -> 0 | F379: =E379*$F$370 -> 0 | G379: ='Survey Results'!F979/'Survey Results'!F$1151 -> 0 | H379: =G379*$H$370 -> 0 | I379: ='Survey Results'!G979/'Survey Results'!G$1151 -> 0 | J379: =I379*$J$370 -> 0 | K379: ='Survey Results'!H979/'Survey Results'!H$1151 -> 0 | L379: =K379*$L$370 -> 0 | M379: =N379/$N$370 -> 0 | N379: =D379+F379+H379+J379+L379 -> 0
...

Sheet Non-food Shopping (By Zone)
C1: Zone 1 | E1: Zone 2 | G1: Zone 3 | I1: Zone 4 | K1: Zone 5 | M1: Total
D4: ='Pop & Exp'!B118 -> 57.572115 | F4: ='Pop & Exp'!C118 -> 43.517618 | H4: ='Pop & Exp'!D118 -> 150.13513 | J4: ='Pop & Exp'!E118 -> 60.239077 | L4: ='Pop & Exp'!F118 -> 73.189455 | N4: =L4+J4+H4+F4+D4 -> 384.65339
B6: Asda Supermarket, South Street, Lancing, Brighton, BN15 8AG (OUTSIDE) | C6: =D6/$D$4 -> 0 | D6: ='Non-food Shopping'!D6+'Non-food Shopping'!D189+'Non-food Shopping'!D372+'Non-food Shopping'!D555+'Non-food Shopping'!D738+'Non-food Shopping'!D921+'Non-food Shopping'!D1104+'Non-food Shopping'!D1287+'Non-food Shopping'!D1470 -> 0 | E6: =F6/$F$4 -> 0 | F6: ='Non-food Shopping'!F6+'Non-food Shopping'!F189+'Non-food Shopping'!F372+'Non-food Shopping'!F555+'Non-food Shopping'!F738+'Non-food Shopping'!F921+'Non-food Shopping'!F1104+'Non-food Shopping'!F1287+'Non-food Shopping'!F1470 -> 0 | G6: =H6/$H$4 -> 0.064701266 | H6: ='Non-food Shopping'!H6+'Non-food Shopping'!H189+'Non-food Shopping'!H372+'Non-food Shopping'!H555+'Non-food Shopping'!H738+'Non-food Shopping'!H921+'Non-food Shopping'!H1104+'Non-food Shopping'!H1287+'Non-food Shopping'!H1470 -> 9.713933 | I6: =J6/$J$4 -> 0 | J6: ='Non-food Shopping'!J6+'Non-food Shopping'!J189+'Non-food Shopping'!J372+'Non-food Shopping'!J555+'Non-food Shopping'!J738+'Non-food Shopping'!J921+'Non-food Shopping'!J1104+'Non-food Shopping'!J1287+'Non-food Shopping'!J1470 -> 0 | K6: =L6/$L$4 -> 0.0072920348 | L6: ='Non-food Shopping'!L6+'Non-food Shopping'!L189+'Non-food Shopping'!L372+'Non-food Shopping'!L555+'Non-food Shopping'!L738+'Non-food Shopping'!L921+'Non-food Shopping'!L1104+'Non-food Shopping'!L1287+'Non-food Shopping'!L1470 -> 0.53370005 | M6: =N6/$N$4 -> 0.026641213 | N6: =D6+F6+H6+J6+L6 -> 10.247633
B7: Asda Superstore, Littlehampton Road, Ferring, BN12 6PN (ZONE 3) | C7: =D7/$D$4 -> 0.013906604 | D7: ='Non-food Shopping'!D7+'Non-food Shopping'!D190+'Non-food Shopping'!D373+'Non-food Shopping'!D556+'Non-food Shopping'!D739+'Non-food Shopping'!D922+'Non-food Shopping'!D1105+'Non-food Shopping'!D1288+'Non-food Shopping'!D1471 -> 0.80063258 | E7: =F7/$F$4 -> 0.0091708485 | F7: ='Non-food Shopping'!F7+'Non-food Shopping'!F190+'Non-food Shopping'!F373+'Non-food Shopping'!F556+'Non-food Shopping'!F739+'Non-food Shopping'!F922+'Non-food Shopping'!F1105+'Non-food Shopping'!F1288+'Non-food Shopping'!F1471 -> 0.39909348 | G7: =H7/$H$4 -> 0.0093034231 | H7: ='Non-food Shopping'!H7+'Non-food Shopping'!H190+'Non-food Shopping'!H373+'Non-food Shopping'!H556+'Non-food Shopping'!H739+'Non-food Shopping'!H922+'Non-food Shopping'!H1105+'Non-food Shopping'!H1288+'Non-food Shopping'!H1471 -> 1.3967706 | I7: =J7/$J$4 -> 0.018023141 | J7: ='Non-food Shopping'!J7+'Non-food Shopping'!J190+'Non-food Shopping'!J373+'Non-food Shopping'!J556+'Non-food Shopping'!J739+'Non-food Shopping'!J922+'Non-food Shopping'!J1105+'Non-food Shopping'!J1288+'Non-food Shopping'!J1471 -> 1.0856974 | K7: =L7/$L$4 -> 0.021402513 | L7: ='Non-food Shopping'!L7+'Non-food Shopping'!L190+'Non-food Shopping'!L373+'Non-food Shopping'!L556+'Non-food Shopping'!L739+'Non-food Shopping'!L922+'Non-food Shopping'!L1105+'Non-food Shopping'!L1288+'Non-food Shopping'!L1471 -> 1.5664383 | M7: =N7/$N$4 -> 0.013645096 | N7: =D7+F7+H7+J7+L7 -> 5.2486324
B8: Marks and Spencer (M&S), East Street, Chichester, PO19 1HS (OUTSIDE) | C8: =D8/$D$4 -> 0 | D8: ='Non-food Shopping'!D8+'Non-food Shopping'!D191+'Non-food Shopping'!D374+'Non-food Shopping'!D557+'Non-food Shopping'!D740+'Non-food Shopping'!D923+'Non-food Shopping'!D1106+'Non-food Shopping'!D1289+'Non-food Shopping'!D1472 -> 0 | E8: =F8/$F$4 -> 0 | F8: ='Non-food Shopping'!F8+'Non-food Shopping'!F191+'Non-food Shopping'!F374+'Non-food Shopping'!F557+'Non-food Shopping'!F740+'Non-food Shopping'!F923+'Non-food Shopping'!F1106+'Non-food Shopping'!F1289+'Non-food Shopping'!F1472 -> 0 | G8: =H8/$H$4 -> 0 | H8: ='Non-food Shopping'!H8+'Non-food Shopping'!H191+'Non-food Shopping'!H374+'Non-food Shopping'!H557+'Non-food Shopping'!H740+'Non-food Shopping'!H923+'Non-food Shopping'!H1106+'Non-food Shopping'!H1289+'Non-food Shopping'!H1472 -> 0 | I8: =J8/$J$4 -> 0.0026881272 | J8: ='Non-food Shopping'!J8+'Non-food Shopping'!J191+'Non-food Shopping'!J374+'Non-food Shopping'!J557+'Non-food Shopping'!J740+'Non-food Shopping'!J923+'Non-food Shopping'!J1106+'Non-food Shopping'!J1289+'Non-food Shopping'!J1472 -> 0.1619303 | K8: =L8/$L$4 -> 0.0025431974 | L8: ='Non-food Shopping'!L8+'Non-food Shopping'!L191+'Non-food Shopping'!L374+'Non-food Shopping'!L557+'Non-food Shopping'!L740+'Non-food Shopping'!L923+'Non-food Shopping'!L1106+'Non-food Shopping'!L1289+'Non-food Shopping'!L1472 -> 0.18613523 | M8: =N8/$N$4 -> 0.00090488097 | N8: =D8+F8+H8+J8+L8 -> 0.34806554
B9: Marks and Spencer (M&S), Montague Street, Worthing, BN11 3BW (OUTSIDE) | C9: =D9/$D$4 -> 0 | D9: ='Non-food Shopping'!D9+'Non-food Shopping'!D192+'Non-food Shopping'!D375+'Non-food Shopping'!D558+'Non-food Shopping'!D741+'Non-food Shopping'!D924+'Non-food Shopping'!D1107+'Non-food Shopping'!D1290+'Non-food Shopping'!D1473 -> 0 | E9: =F9/$F$4 -> 0.011429354 | F9: ='Non-food Shopping'!F9+'Non-food Shopping'!F192+'Non-food Shopping'!F375+'Non-food Shopping'!F558+'Non-food Shopping'!F741+'Non-food Shopping'!F924+'Non-food Shopping'!F1107+'Non-food Shopping'!F1290+'Non-food Shopping'!F1473 -> 0.49737827 | G9: =H9/$H$4 -> 0.016117822 | H9: ='Non-food Shopping'!H9+'Non-food Shopping'!H192+'Non-food Shopping'!H375+'Non-food Shopping'!H558+'Non-food Shopping'!H741+'Non-food Shopping'!H924+'Non-food Shopping'!H1107+'Non-food Shopping'!H1290+'Non-food Shopping'!H1473 -> 2.4198513 | I9: =J9/$J$4 -> 0.010752509 | J9: ='Non-food Shopping'!J9+'Non-food Shopping'!J192+'Non-food Shopping'!J375+'Non-food Shopping'!J558+'Non-food Shopping'!J741+'Non-food Shopping'!J924+'Non-food Shopping'!J1107+'Non-food Shopping'!J1290+'Non-food Shopping'!J1473 -> 0.64772121 | K9: =L9/$L$4 -> 0 | L9: ='Non-food Shopping'!L9+'Non-food Shopping'!L192+'Non-food Shopping'!L375+'Non-food Shopping'!L558+'Non-food Shopping'!L741+'Non-food Shopping'!L924+'Non-food Shopping'!L1107+'Non-food Shopping'!L1290+'Non-food Shopping'!L1473 -> 0 | M9: =N9/$N$4 -> 0.009267956 | N9: =D9+F9+H9+J9+L9 -> 3.5649507
B10: Marks and Spencer (M&S), North Street, Chichester, PO19 1LB (OUTSIDE) | C10: =D10/$D$4 -> 0.0089634862 | D10: ='Non-food Shopping'!D10+'Non-food Shopping'!D193+'Non-food Shopping'!D376+'Non-food Shopping'!D559+'Non-food Shopping'!D742+'Non-food Shopping'!D925+'Non-food Shopping'!D1108+'Non-food Shopping'!D1291+'Non-food Shopping'!D1474 -> 0.51604685 | E10: =F10/$F$4 -> 0 | F10: ='Non-food Shopping'!F10+'Non-food Shopping'!F193+'Non-food Shopping'!F376+'Non-food Shopping'!F559+'Non-food Shopping'!F742+'Non-food Shopping'!F925+'Non-food Shopping'!F1108+'Non-food Shopping'!F1291+'Non-food Shopping'!F1474 -> 0 | G10: =H10/$H$4 -> 0 | H10: ='Non-food Shopping'!H10+'Non-food Shopping'!H193+'Non-food Shopping'!H376+'Non-food Shopping'!H559+'Non-food Shopping'!H742+'Non-food Shopping'!H925+'Non-food Shopping'!H1108+'Non-food Shopping'!H1291+'Non-food Shopping'!H1474 -> 0 | I10: =J10/$J$4 -> 0 | J10: ='Non-food Shopping'!J10+'Non-food Shopping'!J193+'Non-food Shopping'!J376+'Non-food Shopping'!J559+'Non-food Shopping'!J742+'Non-food Shopping'!J925+'Non-food Shopping'!J1108+'Non-food Shopping'!J1291+'Non-food Shopping'!J1474 -> 0 | K10: =L10/$L$4 -> 0.0088813996 | L10: ='Non-food Shopping'!L10+'Non-food Shopping'!L193+'Non-food Shopping'!L376+'Non-food Shopping'!L559+'Non-food Shopping'!L742+'Non-food Shopping'!L925+'Non-food Shopping'!L1108+'Non-food Shopping'!L1291+'Non-food Shopping'!L1474 -> 0.65002479 | M10: =N10/$N$4 -> 0.0030314867 | N10: =D10+F10+H10+J10+L10 -> 1.1660716
B11: Morrisons Superstore, Bedford Street, Bognor Regis, PO21 1QP (OUTSIDE) | C11: =D11/$D$4 -> 0 | D11: ='Non-food Shopping'!D11+'Non-food Shopping'!D194+'Non-food Shopping'!D377+'Non-food Shopping'!D560+'Non-food Shopping'!D743+'Non-food Shopping'!D926+'Non-food Shopping'!D1109+'Non-food Shopping'!D1292+'Non-food Shopping'!D1475 -> 0 | E11: =F11/$F$4 -> 0 | F11: ='Non-food Shopping'!F11+'Non-food Shopping'!F194+'Non-food Shopping'!F377+'Non-food Shopping'!F560+'Non-food Shopping'!F743+'Non-food Shopping'!F926+'Non-food Shopping'!F1109+'Non-food Shopping'!F1292+'Non-food Shopping'!F1475 -> 0 | G11: =H11/$H$4 -> 0 | H11: ='Non-food Shopping'!H11+'Non-food Shopping'!H194+'Non-food Shopping'!H377+'Non-food Shopping'!H560+'Non-food Shopping'!H743+'Non-food Shopping'!H926+'Non-food Shopping'!H1109+'Non-food Shopping'!H1292+'Non-food Shopping'!H1475 -> 0 | I11: =J11/$J$4 -> 0 | J11: ='Non-food Shopping'!J11+'Non-food Shopping'!J194+'Non-food Shopping'!J377+'Non-food Shopping'!J560+'Non-food Shopping'!J743+'Non-food Shopping'!J926+'Non-food Shopping'!J1109+'Non-food Shopping'!J1292+'Non-food Shopping'!J1475 -> 0 | K11: =L11/$L$4 -> 0.0009680905 | L11: ='Non-food Shopping'!L11+'Non-food Shopping'!L194+'Non-food Shopping'!L377+'Non-food Shopping'!L560+'Non-food Shopping'!L743+'Non-food Shopping'!L926+'Non-food Shopping'!L1109+'Non-food Shopping'!L1292+'Non-food Shopping'!L1475 -> 0.070854016 | M11: =N11/$N$4 -> 0.00018420224 | N11: =D11+F11+H11+J11+L11 -> 0.070854016
B12: Morrisons Superstore, Hawthorn Road, Wick, Littlehampton, BN17 7LA (ZONE 1) | C12: =D12/$D$4 -> 0.033948253 | D12: ='Non-food Shopping'!D12+'Non-food Shopping'!D195+'Non-food Shopping'!D378+'Non-food Shopping'!D561+'Non-food Shopping'!D744+'Non-food Shopping'!D927+'Non-food Shopping'!D1110+'Non-food Shopping'!D1293+'Non-food Shopping'!D1476 -> 1.9544727 | E12: =F12/$F$4 -> 0.0072644756 | F12: ='Non-food Shopping'!F12+'Non-food Shopping'!F195+'Non-food Shopping'!F378+'Non-food Shopping'!F561+'Non-food Shopping'!F744+'Non-food Shopping'!F927+'Non-food Shopping'!F1110+'Non-food Shopping'!F1293+'Non-food Shopping'!F1476 -> 0.31613267 | G12: =H12/$H$4 -> 0.0073179731 | H12: ='Non-food Shopping'!H12+'Non-food Shopping'!H195+'Non-food Shopping'!H378+'Non-food Shopping'!H561+'Non-food Shopping'!H744+'Non-food Shopping'!H927+'Non-food Shopping'!H1110+'Non-food Shopping'!H1293+'Non-food Shopping'!H1476 -> 1.0986849 | I12: =J12/$J$4 -> 0.0067088042 | J12: ='Non-food Shopping'!J12+'Non-food Shopping'!J195+'Non-food Shopping'!J378+'Non-food Shopping'!J561+'Non-food Shopping'!J744+'Non-food Shopping'!J927+'Non-food Shopping'!J1110+'Non-food Shopping'!J1293+'Non-food Shopping'!J1476 -> 0.40413217 | K12: =L12/$L$4 -> 0.0020026203 | L12: ='Non-food Shopping'!L12+'Non-food Shopping'!L195+'Non-food Shopping'!L378+'Non-food Shopping'!L561+'Non-food Shopping'!L744+'Non-food Shopping'!L927+'Non-food Shopping'!L1110+'Non-food Shopping'!L1293+'Non-food Shopping'!L1476 -> 0.14657069 | M12: =N12/$N$4 -> 0.010190975 | N12: =D12+F12+H12+J12+L12 -> 3.9199931
B13: Sainsbury's Superstore, Downland Business Park, Lyons Farm, Worthing, BN14 9LA (OUTSIDE) | C13: =D13/$D$4 -> 0 | D13: ='Non-food Shopping'!D15+'Non-food Shopping'!D198+'Non-food Shopping'!D381+'Non-food Shopping'!D564+'Non-food Shopping'!D747+'Non-food Shopping'!D930+'Non-food Shopping'!D1113+'Non-food Shopping'!D1296+'Non-food Shopping'!D1479 -> 0 | E13: =F13/$F$4 -> 0.01056046 | F13: ='Non-food Shopping'!F15+'Non-food Shopping'!F198+'Non-food Shopping'!F381+'Non-food Shopping'!F564+'Non-food Shopping'!F747+'Non-food Shopping'!F930+'Non-food Shopping'!F1113+'Non-food Shopping'!F1296+'Non-food Shopping'!F1479 -> 0.45956607 | G13: =H13/$H$4 -> 0.036686869 | H13: ='Non-food Shopping'!H15+'Non-food Shopping'!H198+'Non-food Shopping'!H381+'Non-food Shopping'!H564+'Non-food Shopping'!H747+'Non-food Shopping'!H930+'Non-food Shopping'!H1113+'Non-food Shopping'!H1296+'Non-food Shopping'!H1479 -> 5.5079879 | I13: =J13/$J$4 -> 0.002976988 | J13: ='Non-food Shopping'!J15+'Non-food Shopping'!J198+'Non-food Shopping'!J381+'Non-food Shopping'!J564+'Non-food Shopping'!J747+'Non-food Shopping'!J930+'Non-food Shopping'!J1113+'Non-food Shopping'!J1296+'Non-food Shopping'!J1479 -> 0.17933101 | K13: =L13/$L$4 -> 0 | L13: ='Non-food Shopping'!L15+'Non-food Shopping'!L198+'Non-food Shopping'!L381+'Non-food Shopping'!L564+'Non-food Shopping'!L747+'Non-food Shopping'!L930+'Non-food Shopping'!L1113+'Non-food Shopping'!L1296+'Non-food Shopping'!L1479 -> 0 | M13: =N13/$N$4 -> 0.015980322 | N13: =D13+F13+H13+J13+L13 -> 6.146885
B14: Sainsbury's Superstore, High Street, Littlehampton, BN17 5EG (ZONE 1) | C14: =D14/$D$4 -> 0.0041353664 | D14: ='Non-food Shopping'!D16+'Non-food Shopping'!D199+'Non-food Shopping'!D382+'Non-food Shopping'!D565+'Non-food Shopping'!D748+'Non-food Shopping'!D931+'Non-food Shopping'!D1114+'Non-food Shopping'!D1297+'Non-food Shopping'!D1480 -> 0.23808179 | E14: =F14/$F$4 -> 0.010860552 | F14: ='Non-food Shopping'!F16+'Non-food Shopping'!F199+'Non-food Shopping'!F382+'Non-food Shopping'!F565+'Non-food Shopping'!F748+'Non-food Shopping'!F931+'Non-food Shopping'!F1114+'Non-food Shopping'!F1297+'Non-food Shopping'!F1480 -> 0.47262534 | G14: =H14/$H$4 -> 0.00062405174 | H14: ='Non-food Shopping'!H16+'Non-food Shopping'!H199+'Non-food Shopping'!H382+'Non-food Shopping'!H565+'Non-food Shopping'!H748+'Non-food Shopping'!H931+'Non-food Shopping'!H1114+'Non-food Shopping'!H1297+'Non-food Shopping'!H1480 -> 0.09369209 | I14: =J14/$J$4 -> 0 | J14: ='Non-food Shopping'!J16+'Non-food Shopping'!J199+'Non-food Shopping'!J382+'Non-food Shopping'!J565+'Non-food Shopping'!J748+'Non-food Shopping'!J931+'Non-food Shopping'!J1114+'Non-food Shopping'!J1297+'Non-food Shopping'!J1480 -> 0 | K14: =L14/$L$4 -> 0 | L14: ='Non-food Shopping'!L16+'Non-food Shopping'!L199+'Non-food Shopping'!L382+'Non-food Shopping'!L565+'Non-food Shopping'!L748+'Non-food Shopping'!L931+'Non-food Shopping'!L1114+'Non-food Shopping'!L1297+'Non-food Shopping'!L1480 -> 0 | M14: =N14/$N$4 -> 0.0020912313 | N14: =D14+F14+H14+J14+L14 -> 0.80439922
B15: Sainsbury's Superstore, Rustington Retail Park, New Road, Littlehampton, BN16 3RT (ZONE 1) | C15: =D15/$D$4 -> 0.07666622 | D15: ='Non-food Shopping'!D17+'Non-food Shopping'!D200+'Non-food Shopping'!D383+'Non-food Shopping'!D566+'Non-food Shopping'!D749+'Non-food Shopping'!D932+'Non-food Shopping'!D1115+'Non-food Shopping'!D1298+'Non-food Shopping'!D1481 -> 4.4138364 | E15: =F15/$F$4 -> 0.080948224 | F15: ='Non-food Shopping'!F17+'Non-food Shopping'!F200+'Non-food Shopping'!F383+'Non-food Shopping'!F566+'Non-food Shopping'!F749+'Non-food Shopping'!F932+'Non-food Shopping'!F1115+'Non-food Shopping'!F1298+'Non-food Shopping'!F1481 -> 3.5226739 | G15: =H15/$H$4 -> 0.051528879 | H15: ='Non-food Shopping'!H17+'Non-food Shopping'!H200+'Non-food Shopping'!H383+'Non-food Shopping'!H566+'Non-food Shopping'!H749+'Non-food Shopping'!H932+'Non-food Shopping'!H1115+'Non-food Shopping'!H1298+'Non-food Shopping'!H1481 -> 7.7362949 | I15: =J15/$J$4 -> 0.10074929 | J15: ='Non-food Shopping'!J17+'Non-food Shopping'!J200+'Non-food Shopping'!J383+'Non-food Shopping'!J566+'Non-food Shopping'!J749+'Non-food Shopping'!J932+'Non-food Shopping'!J1115+'Non-food Shopping'!J1298+'Non-food Shopping'!J1481 -> 6.0690439 | K15: =L15/$L$4 -> 0.012373482 | L15: ='Non-food Shopping'!L17+'Non-food Shopping'!L200+'Non-food Shopping'!L383+'Non-food Shopping'!L566+'Non-food Shopping'!L749+'Non-food Shopping'!L932+'Non-food Shopping'!L1115+'Non-food Shopping'!L1298+'Non-food Shopping'!L1481 -> 0.90560839 | M15: =N15/$N$4 -> 0.058877571 | N15: =D15+F15+H15+J15+L15 -> 22.647458
B16: Sainsbury's Superstore, Shripney Road, Bognor Regis, PO22 9FB (OUTSIDE) | C16: =D16/$D$4 -> 0 | D16: ='Non-food Shopping'!D18+'Non-food Shopping'!D201+'Non-food Shopping'!D384+'Non-food Shopping'!D567+'Non-food Shopping'!D750+'Non-food Shopping'!D933+'Non-food Shopping'!D1116+'Non-food Shopping'!D1299+'Non-food Shopping'!D1482 -> 0 | E16: =F16/$F$4 -> 0.021186385 | F16: ='Non-food Shopping'!F18+'Non-food Shopping'!F201+'Non-food Shopping'!F384+'Non-food Shopping'!F567+'Non-food Shopping'!F750+'Non-food Shopping'!F933+'Non-food Shopping'!F1116+'Non-food Shopping'!F1299+'Non-food Shopping'!F1482 -> 0.92198101 | G16: =H16/$H$4 -> 0 | H16: ='Non-food Shopping'!H18+'Non-food Shopping'!H201+'Non-food Shopping'!H384+'Non-food Shopping'!H567+'Non-food Shopping'!H750+'Non-food Shopping'!H933+'Non-food Shopping'!H1116+'Non-food Shopping'!H1299+'Non-food Shopping'!H1482 -> 0 | I16: =J16/$J$4 -> 0 | J16: ='Non-food Shopping'!J18+'Non-food Shopping'!J201+'Non-food Shopping'!J384+'Non-food Shopping'!J567+'Non-food Shopping'!J750+'Non-food Shopping'!J933+'Non-food Shopping'!J1116+'Non-food Shopping'!J1299+'Non-food Shopping'!J1482 -> 0 | K16: =L16/$L$4 -> 0.069912334 | L16: ='Non-food Shopping'!L18+'Non-food Shopping'!L201+'Non-food Shopping'!L384+'Non-food Shopping'!L567+'Non-food Shopping'!L750+'Non-food Shopping'!L933+'Non-food Shopping'!L1116+'Non-food Shopping'!L1299+'Non-food Shopping'!L1482 -> 5.1168456 | M16: =N16/$N$4 -> 0.015699398 | N16: =D16+F16+H16+J16+L16 -> 6.0388266
B17: Sainsbury's Superstore, Westhampnett Road, Chichester, PO19 7YR (OUTSIDE) | C17: =D17/$D$4 -> 0.00081638152 | D17: ='Non-food Shopping'!D20+'Non-food Shopping'!D203+'Non-food Shopping'!D386+'Non-food Shopping'!D569+'Non-food Shopping'!D752+'Non-food Shopping'!D935+'Non-food Shopping'!D1118+'Non-food Shopping'!D1301+'Non-food Shopping'!D1484 -> 0.04700081 | E17: =F17/$F$4 -> 0 | F17: ='Non-food Shopping'!F20+'Non-food Shopping'!F203+'Non-food Shopping'!F386+'Non-food Shopping'!F569+'Non-food Shopping'!F752+'Non-food Shopping'!F935+'Non-food Shopping'!F1118+'Non-food Shopping'!F1301+'Non-food Shopping'!F1484 -> 0 | G17: =H17/$H$4 -> 0 | H17: ='Non-food Shopping'!H20+'Non-food Shopping'!H203+'Non-food Shopping'!H386+'Non-food Shopping'!H569+'Non-food Shopping'!H752+'Non-food Shopping'!H935+'Non-food Shopping'!H1118+'Non-food Shopping'!H1301+'Non-food Shopping'!H1484 -> 0 | I17: =J17/$J$4 -> 0.00079468259 | J17: ='Non-food Shopping'!J20+'Non-food Shopping'!J203+'Non-food Shopping'!J386+'Non-food Shopping'!J569+'Non-food Shopping'!J752+'Non-food Shopping'!J935+'Non-food Shopping'!J1118+'Non-food Shopping'!J1301+'Non-food Shopping'!J1484 -> 0.047870945 | K17: =L17/$L$4 -> 0.018992876 | L17: ='Non-food Shopping'!L20+'Non-food Shopping'!L203+'Non-food Shopping'!L386+'Non-food Shopping'!L569+'Non-food Shopping'!L752+'Non-food Shopping'!L935+'Non-food Shopping'!L1118+'Non-food Shopping'!L1301+'Non-food Shopping'!L1484 -> 1.3900783 | M17: =N17/$N$4 -> 0.0038604885 | N17: =D17+F17+H17+J17+L17 -> 1.48495
B18: Tesco Extra, Fullbeck Way, West Durrington, Worthing, BN13 3FG (ZONE 4) | C18: =D18/$D$4 -> 0 | D18: ='Non-food Shopping'!D21+'Non-food Shopping'!D204+'Non-food Shopping'!D387+'Non-food Shopping'!D570+'Non-food Shopping'!D753+'Non-food Shopping'!D936+'Non-food Shopping'!D1119+'Non-food Shopping'!D1302+'Non-food Shopping'!D1485 -> 0 | E18: =F18/$F$4 -> 0 | F18: ='Non-food Shopping'!F21+'Non-food Shopping'!F204+'Non-food Shopping'!F387+'Non-food Shopping'!F570+'Non-food Shopping'!F753+'Non-food Shopping'!F936+'Non-food Shopping'!F1119+'Non-food Shopping'!F1302+'Non-food Shopping'!F1485 -> 0 | G18: =H18/$H$4 -> 0.02646639 | H18: ='Non-food Shopping'!H21+'Non-food Shopping'!H204+'Non-food Shopping'!H387+'Non-food Shopping'!H570+'Non-food Shopping'!H753+'Non-food Shopping'!H936+'Non-food Shopping'!H1119+'Non-food Shopping'!H1302+'Non-food Shopping'!H1485 -> 3.9735349 | I18: =J18/$J$4 -> 0.059510934 | J18: ='Non-food Shopping'!J21+'Non-food Shopping'!J204+'Non-food Shopping'!J387+'Non-food Shopping'!J570+'Non-food Shopping'!J753+'Non-food Shopping'!J936+'Non-food Shopping'!J1119+'Non-food Shopping'!J1302+'Non-food Shopping'!J1485 -> 3.5848837 | K18: =L18/$L$4 -> 0.00068303958 | L18: ='Non-food Shopping'!L21+'Non-food Shopping'!L204+'Non-food Shopping'!L387+'Non-food Shopping'!L570+'Non-food Shopping'!L753+'Non-food Shopping'!L936+'Non-food Shopping'!L1119+'Non-food Shopping'!L1302+'Non-food Shopping'!L1485 -> 0.049991294 | M18: =N18/$N$4 -> 0.019779911 | N18: =D18+F18+H18+J18+L18 -> 7.6084099
B19: Tesco Superstore, Broad Piece, Wick, Littlehampton, BN17 5RA (ZONE 1) | C19: =D19/$D$4 -> 0.087817888 | D19: ='Non-food Shopping'!D23+'Non-food Shopping'!D206+'Non-food Shopping'!D389+'Non-food Shopping'!D572+'Non-food Shopping'!D755+'Non-food Shopping'!D938+'Non-food Shopping'!D1121+'Non-food Shopping'!D1304+'Non-food Shopping'!D1487 -> 5.0558616 | E19: =F19/$F$4 -> 0.063659712 | F19: ='Non-food Shopping'!F23+'Non-food Shopping'!F206+'Non-food Shopping'!F389+'Non-food Shopping'!F572+'Non-food Shopping'!F755+'Non-food Shopping'!F938+'Non-food Shopping'!F1121+'Non-food Shopping'!F1304+'Non-food Shopping'!F1487 -> 2.770319 | G19: =H19/$H$4 -> 0.0028015123 | H19: ='Non-food Shopping'!H23+'Non-food Shopping'!H206+'Non-food Shopping'!H389+'Non-food Shopping'!H572+'Non-food Shopping'!H755+'Non-food Shopping'!H938+'Non-food Shopping'!H1121+'Non-food Shopping'!H1304+'Non-food Shopping'!H1487 -> 0.42060541 | I19: =J19/$J$4 -> 0.038377331 | J19: ='Non-food Shopping'!J23+'Non-food Shopping'!J206+'Non-food Shopping'!J389+'Non-food Shopping'!J572+'Non-food Shopping'!J755+'Non-food Shopping'!J938+'Non-food Shopping'!J1121+'Non-food Shopping'!J1304+'Non-food Shopping'!J1487 -> 2.311815 | K19: =L19/$L$4 -> 0.03813865 | L19: ='Non-food Shopping'!L23+'Non-food Shopping'!L206+'Non-food Shopping'!L389+'Non-food Shopping'!L572+'Non-food Shopping'!L755+'Non-food Shopping'!L938+'Non-food Shopping'!L1121+'Non-food Shopping'!L1304+'Non-food Shopping'!L1487 -> 2.791347 | M19: =N19/$N$4 -> 0.034706435 | N19: =D19+F19+H19+J19+L19 -> 13.349948
B20: Tesco Superstore, Shripney Road, Bognor Regis, PO22 9ND (OUTSIDE) | C20: =D20/$D$4 -> 0 | D20: ='Non-food Shopping'!D24+'Non-food Shopping'!D207+'Non-food Shopping'!D390+'Non-food Shopping'!D573+'Non-food Shopping'!D756+'Non-food Shopping'!D939+'Non-food Shopping'!D1122+'Non-food Shopping'!D1305+'Non-food Shopping'!D1488 -> 0 | E20: =F20/$F$4 -> 0 | F20: ='Non-food Shopping'!F24+'Non-food Shopping'!F207+'Non-food Shopping'!F390+'Non-food Shopping'!F573+'Non-food Shopping'!F756+'Non-food Shopping'!F939+'Non-food Shopping'!F1122+'Non-food Shopping'!F1305+'Non-food Shopping'!F1488 -> 0 | G20: =H20/$H$4 -> 0 | H20: ='Non-food Shopping'!H24+'Non-food Shopping'!H207+'Non-food Shopping'!H390+'Non-food Shopping'!H573+'Non-food Shopping'!H756+'Non-food Shopping'!H939+'Non-food Shopping'!H1122+'Non-food Shopping'!H1305+'Non-food Shopping'!H1488 -> 0 | I20: =J20/$J$4 -> 0 | J20: ='Non-food Shopping'!J24+'Non-food Shopping'!J207+'Non-food Shopping'!J390+'Non-food Shopping'!J573+'Non-food Shopping'!J756+'Non-food Shopping'!J939+'Non-food Shopping'!J1122+'Non-food Shopping'!J1305+'Non-food Shopping'!J1488 -> 0 | K20: =L20/$L$4 -> 0.030356511 | L20: ='Non-food Shopping'!L24+'Non-food Shopping'!L207+'Non-food Shopping'!L390+'Non-food Shopping'!L573+'Non-food Shopping'!L756+'Non-food Shopping'!L939+'Non-food Shopping'!L1122+'Non-food Shopping'!L1305+'Non-food Shopping'!L1488 -> 2.2217765 | M20: =N20/$N$4 -> 0.0057760481 | N20: =D20+F20+H20+J20+L20 -> 2.2217765
B21: Waitrose, Broadmark Lane, Rustington, BN16 2NE (ZONE 3) | C21: =D21/$D$4 -> 0 | D21: ='Non-food Shopping'!D25+'Non-food Shopping'!D208+'Non-food Shopping'!D391+'Non-food Shopping'!D574+'Non-food Shopping'!D757+'Non-food Shopping'!D940+'Non-food Shopping'!D1123+'Non-food Shopping'!D1306+'Non-food Shopping'!D1489 -> 0 | E21: =F21/$F$4 -> 0 | F21: ='Non-food Shopping'!F25+'Non-food Shopping'!F208+'Non-food Shopping'!F391+'Non-food Shopping'!F574+'Non-food Shopping'!F757+'Non-food Shopping'!F940+'Non-food Shopping'!F1123+'Non-food Shopping'!F1306+'Non-food Shopping'!F1489 -> 0 | G21: =H21/$H$4 -> 0.0082758862 | H21: ='Non-food Shopping'!H25+'Non-food Shopping'!H208+'Non-food Shopping'!H391+'Non-food Shopping'!H574+'Non-food Shopping'!H757+'Non-food Shopping'!H940+'Non-food Shopping'!H1123+'Non-food Shopping'!H1306+'Non-food Shopping'!H1489 -> 1.2425013 | I21: =J21/$J$4 -> 0 | J21: ='Non-food Shopping'!J25+'Non-food Shopping'!J208+'Non-food Shopping'!J391+'Non-food Shopping'!J574+'Non-food Shopping'!J757+'Non-food Shopping'!J940+'Non-food Shopping'!J1123+'Non-food Shopping'!J1306+'Non-food Shopping'!J1489 -> 0 | K21: =L21/$L$4 -> 0 | L21: ='Non-food Shopping'!L25+'Non-food Shopping'!L208+'Non-food Shopping'!L391+'Non-food Shopping'!L574+'Non-food Shopping'!L757+'Non-food Shopping'!L940+'Non-food Shopping'!L1123+'Non-food Shopping'!L1306+'Non-food Shopping'!L1489 -> 0 | M21: =N21/$N$4 -> 0.003230184 | N21: =D21+F21+H21+J21+L21 -> 1.2425013
B22: Waitrose, High Street, Worthing, BN11 1LL (OUTSIDE) | C22: =D22/$D$4 -> 0 | D22: ='Non-food Shopping'!D26+'Non-food Shopping'!D209+'Non-food Shopping'!D392+'Non-food Shopping'!D575+'Non-food Shopping'!D758+'Non-food Shopping'!D941+'Non-food Shopping'!D1124+'Non-food Shopping'!D1307+'Non-food Shopping'!D1490 -> 0 | E22: =F22/$F$4 -> 0 | F22: ='Non-food Shopping'!F26+'Non-food Shopping'!F209+'Non-food Shopping'!F392+'Non-food Shopping'!F575+'Non-food Shopping'!F758+'Non-food Shopping'!F941+'Non-food Shopping'!F1124+'Non-food Shopping'!F1307+'Non-food Shopping'!F1490 -> 0 | G22: =H22/$H$4 -> 0.0021793807 | H22: ='Non-food Shopping'!H26+'Non-food Shopping'!H209+'Non-food Shopping'!H392+'Non-food Shopping'!H575+'Non-food Shopping'!H758+'Non-food Shopping'!H941+'Non-food Shopping'!H1124+'Non-food Shopping'!H1307+'Non-food Shopping'!H1490 -> 0.32720161 | I22: =J22/$J$4 -> 0 | J22: ='Non-food Shopping'!J26+'Non-food Shopping'!J209+'Non-food Shopping'!J392+'Non-food Shopping'!J575+'Non-food Shopping'!J758+'Non-food Shopping'!J941+'Non-food Shopping'!J1124+'Non-food Shopping'!J1307+'Non-food Shopping'!J1490 -> 0 | K22: =L22/$L$4 -> 0 | L22: ='Non-food Shopping'!L26+'Non-food Shopping'!L209+'Non-food Shopping'!L392+'Non-food Shopping'!L575+'Non-food Shopping'!L758+'Non-food Shopping'!L941+'Non-food Shopping'!L1124+'Non-food Shopping'!L1307+'Non-food Shopping'!L1490 -> 0 | M22: =N22/$N$4 -> 0.00085064011 | N22: =D22+F22+H22+J22+L22 -> 0.32720161
B23: Arundel Town Centre (ZONE 4) | C23: =D23/$D$4 -> 0.00098036771 | D23: ='Non-food Shopping'!D29+'Non-food Shopping'!D212+'Non-food Shopping'!D395+'Non-food Shopping'!D578+'Non-food Shopping'!D761+'Non-food Shopping'!D944+'Non-food Shopping'!D1127+'Non-food Shopping'!D1310+'Non-food Shopping'!D1493 -> 0.056441842 | E23: =F23/$F$4 -> 0 | F23: ='Non-food Shopping'!F29+'Non-food Shopping'!F212+'Non-food Shopping'!F395+'Non-food Shopping'!F578+'Non-food Shopping'!F761+'Non-food Shopping'!F944+'Non-food Shopping'!F1127+'Non-food Shopping'!F1310+'Non-food Shopping'!F1493 -> 0 | G23: =H23/$H$4 -> 0 | H23: ='Non-food Shopping'!H29+'Non-food Shopping'!H212+'Non-food Shopping'!H395+'Non-food Shopping'!H578+'Non-food Shopping'!H761+'Non-food Shopping'!H944+'Non-food Shopping'!H1127+'Non-food Shopping'!H1310+'Non-food Shopping'!H1493 -> 0 | I23: =J23/$J$4 -> 0.05669639 | J23: ='Non-food Shopping'!J29+'Non-food Shopping'!J212+'Non-food Shopping'!J395+'Non-food Shopping'!J578+'Non-food Shopping'!J761+'Non-food Shopping'!J944+'Non-food Shopping'!J1127+'Non-food Shopping'!J1310+'Non-food Shopping'!J1493 -> 3.4153382 | K23: =L23/$L$4 -> 0 | L23: ='Non-food Shopping'!L29+'Non-food Shopping'!L212+'Non-food Shopping'!L395+'Non-food Shopping'!L578+'Non-food Shopping'!L761+'Non-food Shopping'!L944+'Non-food Shopping'!L1127+'Non-food Shopping'!L1310+'Non-food Shopping'!L1493 -> 0 | M23: =N23/$N$4 -> 0.0090257361 | N23: =D23+F23+H23+J23+L23 -> 3.47178
B24: Bognor Regis Town Centre (OUTSIDE) | C24: =D24/$D$4 -> 0.022530024 | D24: ='Non-food Shopping'!D30+'Non-food Shopping'!D213+'Non-food Shopping'!D396+'Non-food Shopping'!D579+'Non-food Shopping'!D762+'Non-food Shopping'!D945+'Non-food Shopping'!D1128+'Non-food Shopping'!D1311+'Non-food Shopping'!D1494 -> 1.2971012 | E24: =F24/$F$4 -> 0.025458924 | F24: ='Non-food Shopping'!F30+'Non-food Shopping'!F213+'Non-food Shopping'!F396+'Non-food Shopping'!F579+'Non-food Shopping'!F762+'Non-food Shopping'!F945+'Non-food Shopping'!F1128+'Non-food Shopping'!F1311+'Non-food Shopping'!F1494 -> 1.1079117 | G24: =H24/$H$4 -> 0.0061235101 | H24: ='Non-food Shopping'!H30+'Non-food Shopping'!H213+'Non-food Shopping'!H396+'Non-food Shopping'!H579+'Non-food Shopping'!H762+'Non-food Shopping'!H945+'Non-food Shopping'!H1128+'Non-food Shopping'!H1311+'Non-food Shopping'!H1494 -> 0.91935399 | I24: =J24/$J$4 -> 0.00063022561 | J24: ='Non-food Shopping'!J30+'Non-food Shopping'!J213+'Non-food Shopping'!J396+'Non-food Shopping'!J579+'Non-food Shopping'!J762+'Non-food Shopping'!J945+'Non-food Shopping'!J1128+'Non-food Shopping'!J1311+'Non-food Shopping'!J1494 -> 0.037964209 | K24: =L24/$L$4 -> 0.088347958 | L24: ='Non-food Shopping'!L30+'Non-food Shopping'!L213+'Non-food Shopping'!L396+'Non-food Shopping'!L579+'Non-food Shopping'!L762+'Non-food Shopping'!L945+'Non-food Shopping'!L1128+'Non-food Shopping'!L1311+'Non-food Shopping'!L1494 -> 6.4661389 | M24: =N24/$N$4 -> 0.025551497 | N24: =D24+F24+H24+J24+L24 -> 9.82847
